BEGIN:VCALENDAR
VERSION:2.0
PRODID:-//Little Ocmulgee State Park &amp; Lodge - ECPv6.15.17.1//NONSGML v1.0//EN
CALSCALE:GREGORIAN
METHOD:PUBLISH
X-WR-CALNAME:Little Ocmulgee State Park &amp; Lodge
X-ORIGINAL-URL:https://littleocmulgeelodge.com
X-WR-CALDESC:Events for Little Ocmulgee State Park &amp; Lodge
REFRESH-INTERVAL;VALUE=DURATION:PT1H
X-Robots-Tag:noindex
X-PUBLISHED-TTL:PT1H
BEGIN:VTIMEZONE
TZID:UTC
BEGIN:STANDARD
TZOFFSETFROM:+0000
TZOFFSETTO:+0000
TZNAME:UTC
DTSTART:20240101T000000
END:STANDARD
END:VTIMEZONE
BEGIN:VEVENT
DTSTART;TZID=UTC:20260101T183000
DTEND;TZID=UTC:20260101T183000
DTSTAMP:20260425T132026
CREATED:20250820T200518Z
LAST-MODIFIED:20250820T200518Z
UID:10001253-1767292200-1767292200@littleocmulgeelodge.com
SUMMARY:Music BINGO Thursdays
DESCRIPTION:Mark your calendars and don’t miss Music Bingo every Thursday at 6:30!
URL:https://littleocmulgeelodge.com/event/music-bingo-thursdays/2026-01-01/
LOCATION:Mulligan’s Grille\, 80 Live Oak Trail\, Helena\, GA\, 31037\, United States
END:VEVENT
BEGIN:VEVENT
DTSTART;TZID=UTC:20251230T183000
DTEND;TZID=UTC:20251230T183000
DTSTAMP:20260425T132026
CREATED:20250820T200355Z
LAST-MODIFIED:20250820T200355Z
UID:10000991-1767119400-1767119400@littleocmulgeelodge.com
SUMMARY:Trivia Tuesdays
DESCRIPTION:Mark your calendars and don’t miss Trivia every Tuesday at 6:30!
URL:https://littleocmulgeelodge.com/event/trivia-tuesdays/2025-12-30/
LOCATION:Mulligan’s Grille\, 80 Live Oak Trail\, Helena\, GA\, 31037\, United States
END:VEVENT
BEGIN:VEVENT
DTSTART;TZID=UTC:20251225T183000
DTEND;TZID=UTC:20251225T183000
DTSTAMP:20260425T132026
CREATED:20250820T200518Z
LAST-MODIFIED:20250820T200518Z
UID:10001252-1766687400-1766687400@littleocmulgeelodge.com
SUMMARY:Music BINGO Thursdays
DESCRIPTION:Mark your calendars and don’t miss Music Bingo every Thursday at 6:30!
URL:https://littleocmulgeelodge.com/event/music-bingo-thursdays/2025-12-25/
LOCATION:Mulligan’s Grille\, 80 Live Oak Trail\, Helena\, GA\, 31037\, United States
END:VEVENT
BEGIN:VEVENT
DTSTART;TZID=UTC:20251223T183000
DTEND;TZID=UTC:20251223T183000
DTSTAMP:20260425T132026
CREATED:20250820T200355Z
LAST-MODIFIED:20250820T200355Z
UID:10000990-1766514600-1766514600@littleocmulgeelodge.com
SUMMARY:Trivia Tuesdays
DESCRIPTION:Mark your calendars and don’t miss Trivia every Tuesday at 6:30!
URL:https://littleocmulgeelodge.com/event/trivia-tuesdays/2025-12-23/
LOCATION:Mulligan’s Grille\, 80 Live Oak Trail\, Helena\, GA\, 31037\, United States
END:VEVENT
BEGIN:VEVENT
DTSTART;TZID=UTC:20251218T183000
DTEND;TZID=UTC:20251218T183000
DTSTAMP:20260425T132026
CREATED:20250820T200518Z
LAST-MODIFIED:20250820T200518Z
UID:10001251-1766082600-1766082600@littleocmulgeelodge.com
SUMMARY:Music BINGO Thursdays
DESCRIPTION:Mark your calendars and don’t miss Music Bingo every Thursday at 6:30!
URL:https://littleocmulgeelodge.com/event/music-bingo-thursdays/2025-12-18/
LOCATION:Mulligan’s Grille\, 80 Live Oak Trail\, Helena\, GA\, 31037\, United States
END:VEVENT
BEGIN:VEVENT
DTSTART;TZID=UTC:20251216T183000
DTEND;TZID=UTC:20251216T183000
DTSTAMP:20260425T132026
CREATED:20250820T200355Z
LAST-MODIFIED:20250820T200355Z
UID:10000989-1765909800-1765909800@littleocmulgeelodge.com
SUMMARY:Trivia Tuesdays
DESCRIPTION:Mark your calendars and don’t miss Trivia every Tuesday at 6:30!
URL:https://littleocmulgeelodge.com/event/trivia-tuesdays/2025-12-16/
LOCATION:Mulligan’s Grille\, 80 Live Oak Trail\, Helena\, GA\, 31037\, United States
END:VEVENT
BEGIN:VEVENT
DTSTART;TZID=UTC:20251211T183000
DTEND;TZID=UTC:20251211T183000
DTSTAMP:20260425T132026
CREATED:20250820T200518Z
LAST-MODIFIED:20250820T200518Z
UID:10001250-1765477800-1765477800@littleocmulgeelodge.com
SUMMARY:Music BINGO Thursdays
DESCRIPTION:Mark your calendars and don’t miss Music Bingo every Thursday at 6:30!
URL:https://littleocmulgeelodge.com/event/music-bingo-thursdays/2025-12-11/
LOCATION:Mulligan’s Grille\, 80 Live Oak Trail\, Helena\, GA\, 31037\, United States
END:VEVENT
BEGIN:VEVENT
DTSTART;TZID=UTC:20251209T183000
DTEND;TZID=UTC:20251209T183000
DTSTAMP:20260425T132026
CREATED:20250820T200355Z
LAST-MODIFIED:20250820T200355Z
UID:10000988-1765305000-1765305000@littleocmulgeelodge.com
SUMMARY:Trivia Tuesdays
DESCRIPTION:Mark your calendars and don’t miss Trivia every Tuesday at 6:30!
URL:https://littleocmulgeelodge.com/event/trivia-tuesdays/2025-12-09/
LOCATION:Mulligan’s Grille\, 80 Live Oak Trail\, Helena\, GA\, 31037\, United States
END:VEVENT
BEGIN:VEVENT
DTSTART;TZID=UTC:20251204T183000
DTEND;TZID=UTC:20251204T183000
DTSTAMP:20260425T132026
CREATED:20250820T200518Z
LAST-MODIFIED:20250820T200518Z
UID:10001249-1764873000-1764873000@littleocmulgeelodge.com
SUMMARY:Music BINGO Thursdays
DESCRIPTION:Mark your calendars and don’t miss Music Bingo every Thursday at 6:30!
URL:https://littleocmulgeelodge.com/event/music-bingo-thursdays/2025-12-04/
LOCATION:Mulligan’s Grille\, 80 Live Oak Trail\, Helena\, GA\, 31037\, United States
END:VEVENT
BEGIN:VEVENT
DTSTART;TZID=UTC:20251202T183000
DTEND;TZID=UTC:20251202T183000
DTSTAMP:20260425T132026
CREATED:20250820T200355Z
LAST-MODIFIED:20250820T200355Z
UID:10000987-1764700200-1764700200@littleocmulgeelodge.com
SUMMARY:Trivia Tuesdays
DESCRIPTION:Mark your calendars and don’t miss Trivia every Tuesday at 6:30!
URL:https://littleocmulgeelodge.com/event/trivia-tuesdays/2025-12-02/
LOCATION:Mulligan’s Grille\, 80 Live Oak Trail\, Helena\, GA\, 31037\, United States
END:VEVENT
BEGIN:VEVENT
DTSTART;TZID=UTC:20251127T183000
DTEND;TZID=UTC:20251127T183000
DTSTAMP:20260425T132026
CREATED:20250820T200518Z
LAST-MODIFIED:20250820T200518Z
UID:10001248-1764268200-1764268200@littleocmulgeelodge.com
SUMMARY:Music BINGO Thursdays
DESCRIPTION:Mark your calendars and don’t miss Music Bingo every Thursday at 6:30!
URL:https://littleocmulgeelodge.com/event/music-bingo-thursdays/2025-11-27/
LOCATION:Mulligan’s Grille\, 80 Live Oak Trail\, Helena\, GA\, 31037\, United States
END:VEVENT
BEGIN:VEVENT
DTSTART;TZID=UTC:20251125T183000
DTEND;TZID=UTC:20251125T183000
DTSTAMP:20260425T132026
CREATED:20250820T200355Z
LAST-MODIFIED:20250820T200355Z
UID:10000986-1764095400-1764095400@littleocmulgeelodge.com
SUMMARY:Trivia Tuesdays
DESCRIPTION:Mark your calendars and don’t miss Trivia every Tuesday at 6:30!
URL:https://littleocmulgeelodge.com/event/trivia-tuesdays/2025-11-25/
LOCATION:Mulligan’s Grille\, 80 Live Oak Trail\, Helena\, GA\, 31037\, United States
END:VEVENT
BEGIN:VEVENT
DTSTART;TZID=UTC:20251120T183000
DTEND;TZID=UTC:20251120T183000
DTSTAMP:20260425T132026
CREATED:20250820T200518Z
LAST-MODIFIED:20250820T200518Z
UID:10001247-1763663400-1763663400@littleocmulgeelodge.com
SUMMARY:Music BINGO Thursdays
DESCRIPTION:Mark your calendars and don’t miss Music Bingo every Thursday at 6:30!
URL:https://littleocmulgeelodge.com/event/music-bingo-thursdays/2025-11-20/
LOCATION:Mulligan’s Grille\, 80 Live Oak Trail\, Helena\, GA\, 31037\, United States
END:VEVENT
BEGIN:VEVENT
DTSTART;TZID=UTC:20251118T183000
DTEND;TZID=UTC:20251118T183000
DTSTAMP:20260425T132026
CREATED:20250820T200355Z
LAST-MODIFIED:20250820T200355Z
UID:10000985-1763490600-1763490600@littleocmulgeelodge.com
SUMMARY:Trivia Tuesdays
DESCRIPTION:Mark your calendars and don’t miss Trivia every Tuesday at 6:30!
URL:https://littleocmulgeelodge.com/event/trivia-tuesdays/2025-11-18/
LOCATION:Mulligan’s Grille\, 80 Live Oak Trail\, Helena\, GA\, 31037\, United States
END:VEVENT
BEGIN:VEVENT
DTSTART;TZID=UTC:20251113T183000
DTEND;TZID=UTC:20251113T183000
DTSTAMP:20260425T132026
CREATED:20250820T200518Z
LAST-MODIFIED:20250820T200518Z
UID:10001246-1763058600-1763058600@littleocmulgeelodge.com
SUMMARY:Music BINGO Thursdays
DESCRIPTION:Mark your calendars and don’t miss Music Bingo every Thursday at 6:30!
URL:https://littleocmulgeelodge.com/event/music-bingo-thursdays/2025-11-13/
LOCATION:Mulligan’s Grille\, 80 Live Oak Trail\, Helena\, GA\, 31037\, United States
END:VEVENT
BEGIN:VEVENT
DTSTART;TZID=UTC:20251111T183000
DTEND;TZID=UTC:20251111T183000
DTSTAMP:20260425T132026
CREATED:20250820T200355Z
LAST-MODIFIED:20250820T200355Z
UID:10000984-1762885800-1762885800@littleocmulgeelodge.com
SUMMARY:Trivia Tuesdays
DESCRIPTION:Mark your calendars and don’t miss Trivia every Tuesday at 6:30!
URL:https://littleocmulgeelodge.com/event/trivia-tuesdays/2025-11-11/
LOCATION:Mulligan’s Grille\, 80 Live Oak Trail\, Helena\, GA\, 31037\, United States
END:VEVENT
BEGIN:VEVENT
DTSTART;TZID=UTC:20251111T160000
DTEND;TZID=UTC:20251111T210000
DTSTAMP:20260425T132026
CREATED:20251009T184637Z
LAST-MODIFIED:20251009T184637Z
UID:10001498-1762876800-1762894800@littleocmulgeelodge.com
SUMMARY:Veteran's Day Discount
DESCRIPTION:Join us in Mulligan’s Grille on Tuesday\, November 11\, 2025 from 4pm to 9pm as we celebrate our veterans. \nActive and retired military receive a complimentary appetizer and entree with valid military ID. \nBring a photo of a fallen soldier to place on our Lost Soldier Table as we pay tribute to their sacrifice.
URL:https://littleocmulgeelodge.com/event/veterans-day-discount/
LOCATION:Mulligan’s Grille\, 80 Live Oak Trail\, Helena\, GA\, 31037\, United States
END:VEVENT
BEGIN:VEVENT
DTSTART;TZID=UTC:20251106T183000
DTEND;TZID=UTC:20251106T183000
DTSTAMP:20260425T132026
CREATED:20250820T200518Z
LAST-MODIFIED:20250820T200518Z
UID:10001245-1762453800-1762453800@littleocmulgeelodge.com
SUMMARY:Music BINGO Thursdays
DESCRIPTION:Mark your calendars and don’t miss Music Bingo every Thursday at 6:30!
URL:https://littleocmulgeelodge.com/event/music-bingo-thursdays/2025-11-06/
LOCATION:Mulligan’s Grille\, 80 Live Oak Trail\, Helena\, GA\, 31037\, United States
END:VEVENT
BEGIN:VEVENT
DTSTART;TZID=UTC:20251104T183000
DTEND;TZID=UTC:20251104T183000
DTSTAMP:20260425T132026
CREATED:20250820T200355Z
LAST-MODIFIED:20250820T200355Z
UID:10000983-1762281000-1762281000@littleocmulgeelodge.com
SUMMARY:Trivia Tuesdays
DESCRIPTION:Mark your calendars and don’t miss Trivia every Tuesday at 6:30!
URL:https://littleocmulgeelodge.com/event/trivia-tuesdays/2025-11-04/
LOCATION:Mulligan’s Grille\, 80 Live Oak Trail\, Helena\, GA\, 31037\, United States
END:VEVENT
BEGIN:VEVENT
DTSTART;TZID=UTC:20251030T183000
DTEND;TZID=UTC:20251030T183000
DTSTAMP:20260425T132026
CREATED:20250820T200518Z
LAST-MODIFIED:20250820T200518Z
UID:10001244-1761849000-1761849000@littleocmulgeelodge.com
SUMMARY:Music BINGO Thursdays
DESCRIPTION:Mark your calendars and don’t miss Music Bingo every Thursday at 6:30!
URL:https://littleocmulgeelodge.com/event/music-bingo-thursdays/2025-10-30/
LOCATION:Mulligan’s Grille\, 80 Live Oak Trail\, Helena\, GA\, 31037\, United States
END:VEVENT
BEGIN:VEVENT
DTSTART;TZID=UTC:20251028T183000
DTEND;TZID=UTC:20251028T183000
DTSTAMP:20260425T132026
CREATED:20250820T200355Z
LAST-MODIFIED:20250820T200355Z
UID:10000982-1761676200-1761676200@littleocmulgeelodge.com
SUMMARY:Trivia Tuesdays
DESCRIPTION:Mark your calendars and don’t miss Trivia every Tuesday at 6:30!
URL:https://littleocmulgeelodge.com/event/trivia-tuesdays/2025-10-28/
LOCATION:Mulligan’s Grille\, 80 Live Oak Trail\, Helena\, GA\, 31037\, United States
END:VEVENT
BEGIN:VEVENT
DTSTART;TZID=UTC:20251023T183000
DTEND;TZID=UTC:20251023T183000
DTSTAMP:20260425T132026
CREATED:20250820T200518Z
LAST-MODIFIED:20250820T200518Z
UID:10001243-1761244200-1761244200@littleocmulgeelodge.com
SUMMARY:Music BINGO Thursdays
DESCRIPTION:Mark your calendars and don’t miss Music Bingo every Thursday at 6:30!
URL:https://littleocmulgeelodge.com/event/music-bingo-thursdays/2025-10-23/
LOCATION:Mulligan’s Grille\, 80 Live Oak Trail\, Helena\, GA\, 31037\, United States
END:VEVENT
BEGIN:VEVENT
DTSTART;TZID=UTC:20251021T183000
DTEND;TZID=UTC:20251021T183000
DTSTAMP:20260425T132026
CREATED:20250820T200355Z
LAST-MODIFIED:20250820T200355Z
UID:10000981-1761071400-1761071400@littleocmulgeelodge.com
SUMMARY:Trivia Tuesdays
DESCRIPTION:Mark your calendars and don’t miss Trivia every Tuesday at 6:30!
URL:https://littleocmulgeelodge.com/event/trivia-tuesdays/2025-10-21/
LOCATION:Mulligan’s Grille\, 80 Live Oak Trail\, Helena\, GA\, 31037\, United States
END:VEVENT
BEGIN:VEVENT
DTSTART;TZID=UTC:20251016T183000
DTEND;TZID=UTC:20251016T183000
DTSTAMP:20260425T132026
CREATED:20250820T200518Z
LAST-MODIFIED:20250820T200518Z
UID:10001242-1760639400-1760639400@littleocmulgeelodge.com
SUMMARY:Music BINGO Thursdays
DESCRIPTION:Mark your calendars and don’t miss Music Bingo every Thursday at 6:30!
URL:https://littleocmulgeelodge.com/event/music-bingo-thursdays/2025-10-16/
LOCATION:Mulligan’s Grille\, 80 Live Oak Trail\, Helena\, GA\, 31037\, United States
END:VEVENT
BEGIN:VEVENT
DTSTART;TZID=UTC:20251014T183000
DTEND;TZID=UTC:20251014T183000
DTSTAMP:20260425T132026
CREATED:20250820T200355Z
LAST-MODIFIED:20250820T200355Z
UID:10000980-1760466600-1760466600@littleocmulgeelodge.com
SUMMARY:Trivia Tuesdays
DESCRIPTION:Mark your calendars and don’t miss Trivia every Tuesday at 6:30!
URL:https://littleocmulgeelodge.com/event/trivia-tuesdays/2025-10-14/
LOCATION:Mulligan’s Grille\, 80 Live Oak Trail\, Helena\, GA\, 31037\, United States
END:VEVENT
BEGIN:VEVENT
DTSTART;TZID=UTC:20251009T183000
DTEND;TZID=UTC:20251009T183000
DTSTAMP:20260425T132026
CREATED:20250820T200518Z
LAST-MODIFIED:20250820T200518Z
UID:10001241-1760034600-1760034600@littleocmulgeelodge.com
SUMMARY:Music BINGO Thursdays
DESCRIPTION:Mark your calendars and don’t miss Music Bingo every Thursday at 6:30!
URL:https://littleocmulgeelodge.com/event/music-bingo-thursdays/2025-10-09/
LOCATION:Mulligan’s Grille\, 80 Live Oak Trail\, Helena\, GA\, 31037\, United States
END:VEVENT
BEGIN:VEVENT
DTSTART;TZID=UTC:20251007T183000
DTEND;TZID=UTC:20251007T183000
DTSTAMP:20260425T132026
CREATED:20250820T200355Z
LAST-MODIFIED:20250820T200355Z
UID:10000979-1759861800-1759861800@littleocmulgeelodge.com
SUMMARY:Trivia Tuesdays
DESCRIPTION:Mark your calendars and don’t miss Trivia every Tuesday at 6:30!
URL:https://littleocmulgeelodge.com/event/trivia-tuesdays/2025-10-07/
LOCATION:Mulligan’s Grille\, 80 Live Oak Trail\, Helena\, GA\, 31037\, United States
END:VEVENT
BEGIN:VEVENT
DTSTART;TZID=UTC:20251002T183000
DTEND;TZID=UTC:20251002T183000
DTSTAMP:20260425T132026
CREATED:20250820T200518Z
LAST-MODIFIED:20250820T200518Z
UID:10001240-1759429800-1759429800@littleocmulgeelodge.com
SUMMARY:Music BINGO Thursdays
DESCRIPTION:Mark your calendars and don’t miss Music Bingo every Thursday at 6:30!
URL:https://littleocmulgeelodge.com/event/music-bingo-thursdays/2025-10-02/
LOCATION:Mulligan’s Grille\, 80 Live Oak Trail\, Helena\, GA\, 31037\, United States
END:VEVENT
BEGIN:VEVENT
DTSTART;TZID=UTC:20250930T183000
DTEND;TZID=UTC:20250930T183000
DTSTAMP:20260425T132026
CREATED:20250820T200355Z
LAST-MODIFIED:20250820T200355Z
UID:10000978-1759257000-1759257000@littleocmulgeelodge.com
SUMMARY:Trivia Tuesdays
DESCRIPTION:Mark your calendars and don’t miss Trivia every Tuesday at 6:30!
URL:https://littleocmulgeelodge.com/event/trivia-tuesdays/2025-09-30/
LOCATION:Mulligan’s Grille\, 80 Live Oak Trail\, Helena\, GA\, 31037\, United States
END:VEVENT
BEGIN:VEVENT
DTSTART;TZID=UTC:20250925T183000
DTEND;TZID=UTC:20250925T183000
DTSTAMP:20260425T132026
CREATED:20250820T200518Z
LAST-MODIFIED:20250820T200518Z
UID:10001239-1758825000-1758825000@littleocmulgeelodge.com
SUMMARY:Music BINGO Thursdays
DESCRIPTION:Mark your calendars and don’t miss Music Bingo every Thursday at 6:30!
URL:https://littleocmulgeelodge.com/event/music-bingo-thursdays/2025-09-25/
LOCATION:Mulligan’s Grille\, 80 Live Oak Trail\, Helena\, GA\, 31037\, United States
END:VEVENT
END:VCALENDAR