BEGIN:VCALENDAR
VERSION:2.0
PRODID:-//Little Ocmulgee State Park &amp; Lodge - ECPv6.15.17.1//NONSGML v1.0//EN
CALSCALE:GREGORIAN
METHOD:PUBLISH
X-WR-CALNAME:Little Ocmulgee State Park &amp; Lodge
X-ORIGINAL-URL:https://littleocmulgeelodge.com
X-WR-CALDESC:Events for Little Ocmulgee State Park &amp; Lodge
REFRESH-INTERVAL;VALUE=DURATION:PT1H
X-Robots-Tag:noindex
X-PUBLISHED-TTL:PT1H
BEGIN:VTIMEZONE
TZID:UTC
BEGIN:STANDARD
TZOFFSETFROM:+0000
TZOFFSETTO:+0000
TZNAME:UTC
DTSTART:20240101T000000
END:STANDARD
END:VTIMEZONE
BEGIN:VEVENT
DTSTART;TZID=UTC:20260407T183000
DTEND;TZID=UTC:20260407T183000
DTSTAMP:20260423T045347
CREATED:20250820T200355Z
LAST-MODIFIED:20250820T200355Z
UID:10001005-1775586600-1775586600@littleocmulgeelodge.com
SUMMARY:Trivia Tuesdays
DESCRIPTION:Mark your calendars and don’t miss Trivia every Tuesday at 6:30!
URL:https://littleocmulgeelodge.com/event/trivia-tuesdays/2026-04-07/
LOCATION:Mulligan’s Grille\, 80 Live Oak Trail\, Helena\, GA\, 31037\, United States
END:VEVENT
BEGIN:VEVENT
DTSTART;TZID=UTC:20260402T183000
DTEND;TZID=UTC:20260402T183000
DTSTAMP:20260423T045347
CREATED:20250820T200518Z
LAST-MODIFIED:20250820T200518Z
UID:10001266-1775154600-1775154600@littleocmulgeelodge.com
SUMMARY:Music BINGO Thursdays
DESCRIPTION:Mark your calendars and don’t miss Music Bingo every Thursday at 6:30!
URL:https://littleocmulgeelodge.com/event/music-bingo-thursdays/2026-04-02/
LOCATION:Mulligan’s Grille\, 80 Live Oak Trail\, Helena\, GA\, 31037\, United States
END:VEVENT
BEGIN:VEVENT
DTSTART;TZID=UTC:20260331T183000
DTEND;TZID=UTC:20260331T183000
DTSTAMP:20260423T045347
CREATED:20250820T200355Z
LAST-MODIFIED:20250820T200355Z
UID:10001004-1774981800-1774981800@littleocmulgeelodge.com
SUMMARY:Trivia Tuesdays
DESCRIPTION:Mark your calendars and don’t miss Trivia every Tuesday at 6:30!
URL:https://littleocmulgeelodge.com/event/trivia-tuesdays/2026-03-31/
LOCATION:Mulligan’s Grille\, 80 Live Oak Trail\, Helena\, GA\, 31037\, United States
END:VEVENT
BEGIN:VEVENT
DTSTART;TZID=UTC:20260326T183000
DTEND;TZID=UTC:20260326T183000
DTSTAMP:20260423T045347
CREATED:20250820T200518Z
LAST-MODIFIED:20250820T200518Z
UID:10001265-1774549800-1774549800@littleocmulgeelodge.com
SUMMARY:Music BINGO Thursdays
DESCRIPTION:Mark your calendars and don’t miss Music Bingo every Thursday at 6:30!
URL:https://littleocmulgeelodge.com/event/music-bingo-thursdays/2026-03-26/
LOCATION:Mulligan’s Grille\, 80 Live Oak Trail\, Helena\, GA\, 31037\, United States
END:VEVENT
BEGIN:VEVENT
DTSTART;TZID=UTC:20260324T183000
DTEND;TZID=UTC:20260324T183000
DTSTAMP:20260423T045347
CREATED:20250820T200355Z
LAST-MODIFIED:20250820T200355Z
UID:10001003-1774377000-1774377000@littleocmulgeelodge.com
SUMMARY:Trivia Tuesdays
DESCRIPTION:Mark your calendars and don’t miss Trivia every Tuesday at 6:30!
URL:https://littleocmulgeelodge.com/event/trivia-tuesdays/2026-03-24/
LOCATION:Mulligan’s Grille\, 80 Live Oak Trail\, Helena\, GA\, 31037\, United States
END:VEVENT
BEGIN:VEVENT
DTSTART;TZID=UTC:20260319T183000
DTEND;TZID=UTC:20260319T183000
DTSTAMP:20260423T045347
CREATED:20250820T200518Z
LAST-MODIFIED:20250820T200518Z
UID:10001264-1773945000-1773945000@littleocmulgeelodge.com
SUMMARY:Music BINGO Thursdays
DESCRIPTION:Mark your calendars and don’t miss Music Bingo every Thursday at 6:30!
URL:https://littleocmulgeelodge.com/event/music-bingo-thursdays/2026-03-19/
LOCATION:Mulligan’s Grille\, 80 Live Oak Trail\, Helena\, GA\, 31037\, United States
END:VEVENT
BEGIN:VEVENT
DTSTART;TZID=UTC:20260317T183000
DTEND;TZID=UTC:20260317T183000
DTSTAMP:20260423T045347
CREATED:20250820T200355Z
LAST-MODIFIED:20250820T200355Z
UID:10001002-1773772200-1773772200@littleocmulgeelodge.com
SUMMARY:Trivia Tuesdays
DESCRIPTION:Mark your calendars and don’t miss Trivia every Tuesday at 6:30!
URL:https://littleocmulgeelodge.com/event/trivia-tuesdays/2026-03-17/
LOCATION:Mulligan’s Grille\, 80 Live Oak Trail\, Helena\, GA\, 31037\, United States
END:VEVENT
BEGIN:VEVENT
DTSTART;TZID=UTC:20260312T183000
DTEND;TZID=UTC:20260312T183000
DTSTAMP:20260423T045347
CREATED:20250820T200518Z
LAST-MODIFIED:20250820T200518Z
UID:10001263-1773340200-1773340200@littleocmulgeelodge.com
SUMMARY:Music BINGO Thursdays
DESCRIPTION:Mark your calendars and don’t miss Music Bingo every Thursday at 6:30!
URL:https://littleocmulgeelodge.com/event/music-bingo-thursdays/2026-03-12/
LOCATION:Mulligan’s Grille\, 80 Live Oak Trail\, Helena\, GA\, 31037\, United States
END:VEVENT
BEGIN:VEVENT
DTSTART;TZID=UTC:20260310T183000
DTEND;TZID=UTC:20260310T183000
DTSTAMP:20260423T045347
CREATED:20250820T200355Z
LAST-MODIFIED:20250820T200355Z
UID:10001001-1773167400-1773167400@littleocmulgeelodge.com
SUMMARY:Trivia Tuesdays
DESCRIPTION:Mark your calendars and don’t miss Trivia every Tuesday at 6:30!
URL:https://littleocmulgeelodge.com/event/trivia-tuesdays/2026-03-10/
LOCATION:Mulligan’s Grille\, 80 Live Oak Trail\, Helena\, GA\, 31037\, United States
END:VEVENT
BEGIN:VEVENT
DTSTART;TZID=UTC:20260305T183000
DTEND;TZID=UTC:20260305T183000
DTSTAMP:20260423T045347
CREATED:20250820T200518Z
LAST-MODIFIED:20250820T200518Z
UID:10001262-1772735400-1772735400@littleocmulgeelodge.com
SUMMARY:Music BINGO Thursdays
DESCRIPTION:Mark your calendars and don’t miss Music Bingo every Thursday at 6:30!
URL:https://littleocmulgeelodge.com/event/music-bingo-thursdays/2026-03-05/
LOCATION:Mulligan’s Grille\, 80 Live Oak Trail\, Helena\, GA\, 31037\, United States
END:VEVENT
BEGIN:VEVENT
DTSTART;TZID=UTC:20260303T183000
DTEND;TZID=UTC:20260303T183000
DTSTAMP:20260423T045347
CREATED:20250820T200355Z
LAST-MODIFIED:20250820T200355Z
UID:10001000-1772562600-1772562600@littleocmulgeelodge.com
SUMMARY:Trivia Tuesdays
DESCRIPTION:Mark your calendars and don’t miss Trivia every Tuesday at 6:30!
URL:https://littleocmulgeelodge.com/event/trivia-tuesdays/2026-03-03/
LOCATION:Mulligan’s Grille\, 80 Live Oak Trail\, Helena\, GA\, 31037\, United States
END:VEVENT
BEGIN:VEVENT
DTSTART;TZID=UTC:20260226T183000
DTEND;TZID=UTC:20260226T183000
DTSTAMP:20260423T045347
CREATED:20250820T200518Z
LAST-MODIFIED:20250820T200518Z
UID:10001261-1772130600-1772130600@littleocmulgeelodge.com
SUMMARY:Music BINGO Thursdays
DESCRIPTION:Mark your calendars and don’t miss Music Bingo every Thursday at 6:30!
URL:https://littleocmulgeelodge.com/event/music-bingo-thursdays/2026-02-26/
LOCATION:Mulligan’s Grille\, 80 Live Oak Trail\, Helena\, GA\, 31037\, United States
END:VEVENT
BEGIN:VEVENT
DTSTART;TZID=UTC:20260224T183000
DTEND;TZID=UTC:20260224T183000
DTSTAMP:20260423T045347
CREATED:20250820T200355Z
LAST-MODIFIED:20250820T200355Z
UID:10000999-1771957800-1771957800@littleocmulgeelodge.com
SUMMARY:Trivia Tuesdays
DESCRIPTION:Mark your calendars and don’t miss Trivia every Tuesday at 6:30!
URL:https://littleocmulgeelodge.com/event/trivia-tuesdays/2026-02-24/
LOCATION:Mulligan’s Grille\, 80 Live Oak Trail\, Helena\, GA\, 31037\, United States
END:VEVENT
BEGIN:VEVENT
DTSTART;TZID=UTC:20260219T183000
DTEND;TZID=UTC:20260219T183000
DTSTAMP:20260423T045347
CREATED:20250820T200518Z
LAST-MODIFIED:20250820T200518Z
UID:10001260-1771525800-1771525800@littleocmulgeelodge.com
SUMMARY:Music BINGO Thursdays
DESCRIPTION:Mark your calendars and don’t miss Music Bingo every Thursday at 6:30!
URL:https://littleocmulgeelodge.com/event/music-bingo-thursdays/2026-02-19/
LOCATION:Mulligan’s Grille\, 80 Live Oak Trail\, Helena\, GA\, 31037\, United States
END:VEVENT
BEGIN:VEVENT
DTSTART;TZID=UTC:20260217T183000
DTEND;TZID=UTC:20260217T183000
DTSTAMP:20260423T045347
CREATED:20250820T200355Z
LAST-MODIFIED:20250820T200355Z
UID:10000998-1771353000-1771353000@littleocmulgeelodge.com
SUMMARY:Trivia Tuesdays
DESCRIPTION:Mark your calendars and don’t miss Trivia every Tuesday at 6:30!
URL:https://littleocmulgeelodge.com/event/trivia-tuesdays/2026-02-17/
LOCATION:Mulligan’s Grille\, 80 Live Oak Trail\, Helena\, GA\, 31037\, United States
END:VEVENT
BEGIN:VEVENT
DTSTART;TZID=UTC:20260214T160000
DTEND;TZID=UTC:20260214T210000
DTSTAMP:20260423T045348
CREATED:20260106T180740Z
LAST-MODIFIED:20260106T180740Z
UID:10001903-1771084800-1771102800@littleocmulgeelodge.com
SUMMARY:Valentine's Day Dinner
DESCRIPTION:Join us in Mulligan’s Grille on Saturday\, February 14\, 2026 from 4pm – 9pm for a perfectly crafted feast for two! Don’t forget to indulge in one our Sweetheart Cocktails.
URL:https://littleocmulgeelodge.com/event/valentines-day-dinner/
LOCATION:Mulligan’s Grille\, 80 Live Oak Trail\, Helena\, GA\, 31037\, United States
END:VEVENT
BEGIN:VEVENT
DTSTART;TZID=UTC:20260212T183000
DTEND;TZID=UTC:20260212T183000
DTSTAMP:20260423T045348
CREATED:20250820T200518Z
LAST-MODIFIED:20250820T200518Z
UID:10001259-1770921000-1770921000@littleocmulgeelodge.com
SUMMARY:Music BINGO Thursdays
DESCRIPTION:Mark your calendars and don’t miss Music Bingo every Thursday at 6:30!
URL:https://littleocmulgeelodge.com/event/music-bingo-thursdays/2026-02-12/
LOCATION:Mulligan’s Grille\, 80 Live Oak Trail\, Helena\, GA\, 31037\, United States
END:VEVENT
BEGIN:VEVENT
DTSTART;TZID=UTC:20260210T183000
DTEND;TZID=UTC:20260210T183000
DTSTAMP:20260423T045348
CREATED:20250820T200355Z
LAST-MODIFIED:20250820T200355Z
UID:10000997-1770748200-1770748200@littleocmulgeelodge.com
SUMMARY:Trivia Tuesdays
DESCRIPTION:Mark your calendars and don’t miss Trivia every Tuesday at 6:30!
URL:https://littleocmulgeelodge.com/event/trivia-tuesdays/2026-02-10/
LOCATION:Mulligan’s Grille\, 80 Live Oak Trail\, Helena\, GA\, 31037\, United States
END:VEVENT
BEGIN:VEVENT
DTSTART;TZID=UTC:20260205T183000
DTEND;TZID=UTC:20260205T183000
DTSTAMP:20260423T045348
CREATED:20250820T200518Z
LAST-MODIFIED:20250820T200518Z
UID:10001258-1770316200-1770316200@littleocmulgeelodge.com
SUMMARY:Music BINGO Thursdays
DESCRIPTION:Mark your calendars and don’t miss Music Bingo every Thursday at 6:30!
URL:https://littleocmulgeelodge.com/event/music-bingo-thursdays/2026-02-05/
LOCATION:Mulligan’s Grille\, 80 Live Oak Trail\, Helena\, GA\, 31037\, United States
END:VEVENT
BEGIN:VEVENT
DTSTART;TZID=UTC:20260203T183000
DTEND;TZID=UTC:20260203T183000
DTSTAMP:20260423T045348
CREATED:20250820T200355Z
LAST-MODIFIED:20250820T200355Z
UID:10000996-1770143400-1770143400@littleocmulgeelodge.com
SUMMARY:Trivia Tuesdays
DESCRIPTION:Mark your calendars and don’t miss Trivia every Tuesday at 6:30!
URL:https://littleocmulgeelodge.com/event/trivia-tuesdays/2026-02-03/
LOCATION:Mulligan’s Grille\, 80 Live Oak Trail\, Helena\, GA\, 31037\, United States
END:VEVENT
BEGIN:VEVENT
DTSTART;TZID=UTC:20260129T183000
DTEND;TZID=UTC:20260129T183000
DTSTAMP:20260423T045348
CREATED:20250820T200518Z
LAST-MODIFIED:20250820T200518Z
UID:10001257-1769711400-1769711400@littleocmulgeelodge.com
SUMMARY:Music BINGO Thursdays
DESCRIPTION:Mark your calendars and don’t miss Music Bingo every Thursday at 6:30!
URL:https://littleocmulgeelodge.com/event/music-bingo-thursdays/2026-01-29/
LOCATION:Mulligan’s Grille\, 80 Live Oak Trail\, Helena\, GA\, 31037\, United States
END:VEVENT
BEGIN:VEVENT
DTSTART;TZID=UTC:20260127T183000
DTEND;TZID=UTC:20260127T183000
DTSTAMP:20260423T045348
CREATED:20250820T200355Z
LAST-MODIFIED:20250820T200355Z
UID:10000995-1769538600-1769538600@littleocmulgeelodge.com
SUMMARY:Trivia Tuesdays
DESCRIPTION:Mark your calendars and don’t miss Trivia every Tuesday at 6:30!
URL:https://littleocmulgeelodge.com/event/trivia-tuesdays/2026-01-27/
LOCATION:Mulligan’s Grille\, 80 Live Oak Trail\, Helena\, GA\, 31037\, United States
END:VEVENT
BEGIN:VEVENT
DTSTART;TZID=UTC:20260122T183000
DTEND;TZID=UTC:20260122T183000
DTSTAMP:20260423T045348
CREATED:20250820T200518Z
LAST-MODIFIED:20250820T200518Z
UID:10001256-1769106600-1769106600@littleocmulgeelodge.com
SUMMARY:Music BINGO Thursdays
DESCRIPTION:Mark your calendars and don’t miss Music Bingo every Thursday at 6:30!
URL:https://littleocmulgeelodge.com/event/music-bingo-thursdays/2026-01-22/
LOCATION:Mulligan’s Grille\, 80 Live Oak Trail\, Helena\, GA\, 31037\, United States
END:VEVENT
BEGIN:VEVENT
DTSTART;TZID=UTC:20260120T183000
DTEND;TZID=UTC:20260120T183000
DTSTAMP:20260423T045348
CREATED:20250820T200355Z
LAST-MODIFIED:20250820T200355Z
UID:10000994-1768933800-1768933800@littleocmulgeelodge.com
SUMMARY:Trivia Tuesdays
DESCRIPTION:Mark your calendars and don’t miss Trivia every Tuesday at 6:30!
URL:https://littleocmulgeelodge.com/event/trivia-tuesdays/2026-01-20/
LOCATION:Mulligan’s Grille\, 80 Live Oak Trail\, Helena\, GA\, 31037\, United States
END:VEVENT
BEGIN:VEVENT
DTSTART;TZID=UTC:20260115T183000
DTEND;TZID=UTC:20260115T183000
DTSTAMP:20260423T045348
CREATED:20250820T200518Z
LAST-MODIFIED:20250820T200518Z
UID:10001255-1768501800-1768501800@littleocmulgeelodge.com
SUMMARY:Music BINGO Thursdays
DESCRIPTION:Mark your calendars and don’t miss Music Bingo every Thursday at 6:30!
URL:https://littleocmulgeelodge.com/event/music-bingo-thursdays/2026-01-15/
LOCATION:Mulligan’s Grille\, 80 Live Oak Trail\, Helena\, GA\, 31037\, United States
END:VEVENT
BEGIN:VEVENT
DTSTART;TZID=UTC:20260113T183000
DTEND;TZID=UTC:20260113T183000
DTSTAMP:20260423T045348
CREATED:20250820T200355Z
LAST-MODIFIED:20250820T200355Z
UID:10000993-1768329000-1768329000@littleocmulgeelodge.com
SUMMARY:Trivia Tuesdays
DESCRIPTION:Mark your calendars and don’t miss Trivia every Tuesday at 6:30!
URL:https://littleocmulgeelodge.com/event/trivia-tuesdays/2026-01-13/
LOCATION:Mulligan’s Grille\, 80 Live Oak Trail\, Helena\, GA\, 31037\, United States
END:VEVENT
BEGIN:VEVENT
DTSTART;TZID=UTC:20260108T183000
DTEND;TZID=UTC:20260108T183000
DTSTAMP:20260423T045348
CREATED:20250820T200518Z
LAST-MODIFIED:20250820T200518Z
UID:10001254-1767897000-1767897000@littleocmulgeelodge.com
SUMMARY:Music BINGO Thursdays
DESCRIPTION:Mark your calendars and don’t miss Music Bingo every Thursday at 6:30!
URL:https://littleocmulgeelodge.com/event/music-bingo-thursdays/2026-01-08/
LOCATION:Mulligan’s Grille\, 80 Live Oak Trail\, Helena\, GA\, 31037\, United States
END:VEVENT
BEGIN:VEVENT
DTSTART;TZID=UTC:20260106T183000
DTEND;TZID=UTC:20260106T183000
DTSTAMP:20260423T045348
CREATED:20250820T200355Z
LAST-MODIFIED:20250820T200355Z
UID:10000992-1767724200-1767724200@littleocmulgeelodge.com
SUMMARY:Trivia Tuesdays
DESCRIPTION:Mark your calendars and don’t miss Trivia every Tuesday at 6:30!
URL:https://littleocmulgeelodge.com/event/trivia-tuesdays/2026-01-06/
LOCATION:Mulligan’s Grille\, 80 Live Oak Trail\, Helena\, GA\, 31037\, United States
END:VEVENT
BEGIN:VEVENT
DTSTART;TZID=UTC:20260101T183000
DTEND;TZID=UTC:20260101T183000
DTSTAMP:20260423T045348
CREATED:20250820T200518Z
LAST-MODIFIED:20250820T200518Z
UID:10001253-1767292200-1767292200@littleocmulgeelodge.com
SUMMARY:Music BINGO Thursdays
DESCRIPTION:Mark your calendars and don’t miss Music Bingo every Thursday at 6:30!
URL:https://littleocmulgeelodge.com/event/music-bingo-thursdays/2026-01-01/
LOCATION:Mulligan’s Grille\, 80 Live Oak Trail\, Helena\, GA\, 31037\, United States
END:VEVENT
BEGIN:VEVENT
DTSTART;TZID=UTC:20251230T183000
DTEND;TZID=UTC:20251230T183000
DTSTAMP:20260423T045348
CREATED:20250820T200355Z
LAST-MODIFIED:20250820T200355Z
UID:10000991-1767119400-1767119400@littleocmulgeelodge.com
SUMMARY:Trivia Tuesdays
DESCRIPTION:Mark your calendars and don’t miss Trivia every Tuesday at 6:30!
URL:https://littleocmulgeelodge.com/event/trivia-tuesdays/2025-12-30/
LOCATION:Mulligan’s Grille\, 80 Live Oak Trail\, Helena\, GA\, 31037\, United States
END:VEVENT
END:VCALENDAR